BEGIN:VCALENDAR
VERSION:2.0
PRODID:-//wp-events-plugin.com//7.2.3.1//EN
TZID:Europe/Brussels
X-WR-TIMEZONE:Europe/Brussels
BEGIN:VEVENT
UID:266@natuurgidsen-antwerpen.be
DTSTART;TZID=Europe/Brussels:20261128T140000
DTEND;TZID=Europe/Brussels:20261128T160000
DTSTAMP:20251202T084543Z
URL:https://www.natuurgidsen-antwerpen.be/events/fort-3-borsbeek-november/
SUMMARY:Fort-3 Borsbeek - November
DESCRIPTION:Koude Beekwandeling\nKlik op locatie hiernaast voor praktische 
 details
LOCATION:Fort 3\, Jozef Reusenslei 3 \, Borsbeek\, 2150\, België
GEO:51.189041;4.479405
X-APPLE-STRUCTURED-LOCATION;VALUE=URI;X-ADDRESS=Jozef Reusenslei 3 \, Borsb
 eek\, 2150\, België;X-APPLE-RADIUS=100;X-TITLE=Fort 3:geo:51.189041,4.479
 405
END:VEVENT
BEGIN:VTIMEZONE
TZID:Europe/Brussels
X-LIC-LOCATION:Europe/Brussels
BEGIN:STANDARD
DTSTART:20261025T020000
TZOFFSETFROM:+0200
TZOFFSETTO:+0100
TZNAME:CET
END:STANDARD
END:VTIMEZONE
END:VCALENDAR